Package: soGGi Version: 1.43.0 Command: rm -rf soGGi.buildbin-libdir && mkdir soGGi.buildbin-libdir && /Users/biocbuild/BBS/utils/build-universal.sh soGGi_1.43.0.tar.gz /Library/Frameworks/R.framework/Resources/bin/R soGGi.buildbin-libdir StartedAt: 2025-11-13 23:57:34 -0500 (Thu, 13 Nov 2025) EndedAt: 2025-11-13 23:57:55 -0500 (Thu, 13 Nov 2025) EllapsedTime: 21.5 seconds RetCode: 0 Status: OK PackageFile: soGGi_1.43.0.tgz PackageFileSize: 3.706 MiB