Package: snpStats Version: 1.61.0 Command: /Library/Frameworks/R.framework/Resources/bin/R CMD INSTALL snpStats StartedAt: 2025-11-21 15:07:18 -0500 (Fri, 21 Nov 2025) EndedAt: 2025-11-21 15:07:24 -0500 (Fri, 21 Nov 2025) EllapsedTime: 6.5 seconds RetCode: 0 Status: OK