Package: snpStats Version: 1.61.0 Command: /Library/Frameworks/R.framework/Resources/bin/R CMD build --keep-empty-dirs --no-resave-data snpStats StartedAt: 2025-11-21 17:42:18 -0500 (Fri, 21 Nov 2025) EndedAt: 2025-11-21 17:42:56 -0500 (Fri, 21 Nov 2025) EllapsedTime: 38.4 seconds RetCode: 0 Status: OK PackageFile: snpStats_1.61.0.tar.gz PackageFileSize: 7.733 MiB