Package: snpStats Version: 1.61.0 Command: rm -rf snpStats.buildbin-libdir && mkdir snpStats.buildbin-libdir && /Users/biocbuild/BBS/utils/build-universal.sh snpStats_1.61.0.tar.gz /Library/Frameworks/R.framework/Resources/bin/R snpStats.buildbin-libdir StartedAt: 2025-11-21 23:52:25 -0500 (Fri, 21 Nov 2025) EndedAt: 2025-11-21 23:52:35 -0500 (Fri, 21 Nov 2025) EllapsedTime: 10.2 seconds RetCode: 0 Status: OK PackageFile: snpStats_1.61.0.tgz PackageFileSize: 8.514 MiB