Package: snm Version: 1.59.0 Command: /home/biocbuild/bbs-3.23-bioc/R/bin/R CMD INSTALL snm StartedAt: 2025-11-14 15:07:07 -0500 (Fri, 14 Nov 2025) EndedAt: 2025-11-14 15:07:42 -0500 (Fri, 14 Nov 2025) EllapsedTime: 34.6 seconds RetCode: 0 Status: OK