Package: snm Version: 1.59.0 Command: /home/biocbuild/bbs-3.23-bioc/R/bin/R CMD build --keep-empty-dirs --no-resave-data snm StartedAt: 2025-11-16 20:15:33 -0500 (Sun, 16 Nov 2025) EndedAt: 2025-11-16 20:17:26 -0500 (Sun, 16 Nov 2025) EllapsedTime: 113.1 seconds RetCode: 0 Status: OK PackageFile: snm_1.59.0.tar.gz PackageFileSize: 728 KiB