Package: snm Version: 1.59.0 Command: /Library/Frameworks/R.framework/Resources/bin/R CMD build --keep-empty-dirs --no-resave-data snm StartedAt: 2025-11-12 17:14:57 -0500 (Wed, 12 Nov 2025) EndedAt: 2025-11-12 17:15:48 -0500 (Wed, 12 Nov 2025) EllapsedTime: 50.6 seconds RetCode: 0 Status: OK PackageFile: snm_1.59.0.tar.gz PackageFileSize: 727.8 KiB