Package: snm Version: 1.59.0 Command: rm -rf snm.buildbin-libdir && mkdir snm.buildbin-libdir && /Users/biocbuild/BBS/utils/build-universal.sh snm_1.59.0.tar.gz /Library/Frameworks/R.framework/Resources/bin/R snm.buildbin-libdir StartedAt: 2025-11-12 21:11:16 -0500 (Wed, 12 Nov 2025) EndedAt: 2025-11-12 21:11:20 -0500 (Wed, 12 Nov 2025) EllapsedTime: 4.1 seconds RetCode: 0 Status: OK PackageFile: snm_1.59.0.tgz PackageFileSize: 616.5 KiB