Package: snm Version: 1.59.0 Maintainer: John D. Storey MaintainerEmail: jstorey at princeton.edu git_url: https://git.bioconductor.org/packages/snm git_branch: devel git_last_commit: 20b98fe git_last_commit_date: 2025-10-29 10:06:17 -0500 (Wed, 29 Oct 2025)