Package: snapcount Version: 1.23.0 Command: /Library/Frameworks/R.framework/Resources/bin/R CMD build --keep-empty-dirs --no-resave-data snapcount StartedAt: 2025-11-16 17:43:29 -0500 (Sun, 16 Nov 2025) EndedAt: 2025-11-16 17:44:41 -0500 (Sun, 16 Nov 2025) EllapsedTime: 71.8 seconds RetCode: 0 Status: OK PackageFile: snapcount_1.23.0.tar.gz PackageFileSize: 514 KiB