Package: snapcount Version: 1.23.0 Command: rm -rf snapcount.buildbin-libdir && mkdir snapcount.buildbin-libdir && /Users/biocbuild/BBS/utils/build-universal.sh snapcount_1.23.0.tar.gz /Library/Frameworks/R.framework/Resources/bin/R snapcount.buildbin-libdir StartedAt: 2025-11-16 23:53:54 -0500 (Sun, 16 Nov 2025) EndedAt: 2025-11-16 23:54:09 -0500 (Sun, 16 Nov 2025) EllapsedTime: 14.4 seconds RetCode: 0 Status: OK PackageFile: snapcount_1.23.0.tgz PackageFileSize: 622.9 KiB