Package: smoppix Version: 1.3.0 Command: /Library/Frameworks/R.framework/Resources/bin/R CMD INSTALL smoppix StartedAt: 2025-11-12 15:27:50 -0500 (Wed, 12 Nov 2025) EndedAt: 2025-11-12 15:28:09 -0500 (Wed, 12 Nov 2025) EllapsedTime: 18.8 seconds RetCode: 0 Status: OK