Package: smoppix Version: 1.3.0 Command: /Library/Frameworks/R.framework/Resources/bin/R CMD build --keep-empty-dirs --no-resave-data smoppix StartedAt: 2025-11-12 17:14:45 -0500 (Wed, 12 Nov 2025) EndedAt: 2025-11-12 17:16:43 -0500 (Wed, 12 Nov 2025) EllapsedTime: 118.4 seconds RetCode: 0 Status: OK PackageFile: smoppix_1.3.0.tar.gz PackageFileSize: 5.498 MiB