Package: smoppix Version: 1.3.0 Maintainer: Stijn Hawinkel MaintainerEmail: stijn.hawinkel at psb.ugent.be git_url: https://git.bioconductor.org/packages/smoppix git_branch: devel git_last_commit: fe4ac0d git_last_commit_date: 2025-11-03 12:32:49 -0500 (Mon, 03 Nov 2025)