Package: smoothclust Version: 1.7.0 Command: /home/biocbuild/bbs-3.23-bioc/R/bin/R CMD INSTALL smoothclust StartedAt: 2025-11-14 15:25:53 -0500 (Fri, 14 Nov 2025) EndedAt: 2025-11-14 15:26:14 -0500 (Fri, 14 Nov 2025) EllapsedTime: 21.5 seconds RetCode: 0 Status: OK