Package: smoothclust Version: 1.7.0 Command: /home/biocbuild/bbs-3.23-bioc/R/bin/R CMD check --install=check:smoothclust.install-out.txt --library=/home/biocbuild/bbs-3.23-bioc/R/site-library --timings smoothclust_1.7.0.tar.gz StartedAt: 2025-11-14 04:06:48 -0500 (Fri, 14 Nov 2025) EndedAt: 2025-11-14 04:11:54 -0500 (Fri, 14 Nov 2025) EllapsedTime: 305.4 seconds RetCode: 0 Status: OK CheckDir: smoothclust.Rcheck Warnings: 0