Package: smoothclust Version: 1.7.0 Command: /Library/Frameworks/R.framework/Resources/bin/R CMD check --install=check:smoothclust.install-out.txt --library=/Library/Frameworks/R.framework/Resources/library --no-vignettes --timings smoothclust_1.7.0.tar.gz StartedAt: 2025-11-14 22:35:09 -0500 (Fri, 14 Nov 2025) EndedAt: 2025-11-14 22:37:06 -0500 (Fri, 14 Nov 2025) EllapsedTime: 116.4 seconds RetCode: 0 Status: OK CheckDir: smoothclust.Rcheck Warnings: 0