Package: smoothclust Version: 1.7.0 Command: /Library/Frameworks/R.framework/Resources/bin/R CMD build --keep-empty-dirs --no-resave-data smoothclust StartedAt: 2025-11-13 17:45:09 -0500 (Thu, 13 Nov 2025) EndedAt: 2025-11-13 17:45:41 -0500 (Thu, 13 Nov 2025) EllapsedTime: 32.4 seconds RetCode: 0 Status: OK PackageFile: smoothclust_1.7.0.tar.gz PackageFileSize: 853.8 KiB