Package: sketchR Version: 1.7.0 Command: /home/biocbuild/bbs-3.23-bioc/R/bin/R CMD build --keep-empty-dirs --no-resave-data sketchR StartedAt: 2025-11-13 20:08:02 -0500 (Thu, 13 Nov 2025) EndedAt: 2025-11-13 20:11:16 -0500 (Thu, 13 Nov 2025) EllapsedTime: 194.2 seconds RetCode: 0 Status: OK PackageFile: sketchR_1.7.0.tar.gz PackageFileSize: 2.283 MiB