Package: sketchR Version: 1.7.0 Command: /Library/Frameworks/R.framework/Resources/bin/R CMD INSTALL sketchR StartedAt: 2025-11-13 15:08:10 -0500 (Thu, 13 Nov 2025) EndedAt: 2025-11-13 15:08:16 -0500 (Thu, 13 Nov 2025) EllapsedTime: 6.2 seconds RetCode: 0 Status: OK