Package: sketchR Version: 1.7.0 Command: /Library/Frameworks/R.framework/Resources/bin/R CMD build --keep-empty-dirs --no-resave-data sketchR StartedAt: 2025-11-14 17:41:58 -0500 (Fri, 14 Nov 2025) EndedAt: 2025-11-14 17:43:45 -0500 (Fri, 14 Nov 2025) EllapsedTime: 107.2 seconds RetCode: 0 Status: OK PackageFile: sketchR_1.7.0.tar.gz PackageFileSize: 2.751 MiB