Package: sitePath Version: 1.27.0 Command: /home/biocbuild/bbs-3.23-bioc/R/bin/R CMD build --keep-empty-dirs --no-resave-data sitePath StartedAt: 2025-11-14 20:08:13 -0500 (Fri, 14 Nov 2025) EndedAt: 2025-11-14 20:09:16 -0500 (Fri, 14 Nov 2025) EllapsedTime: 63.1 seconds RetCode: 0 Status: OK PackageFile: sitePath_1.27.0.tar.gz PackageFileSize: 1.217 MiB