Package: sitePath Version: 1.27.0 Command: /Library/Frameworks/R.framework/Resources/bin/R CMD INSTALL sitePath StartedAt: 2025-11-13 15:05:59 -0500 (Thu, 13 Nov 2025) EndedAt: 2025-11-13 15:06:12 -0500 (Thu, 13 Nov 2025) EllapsedTime: 13.4 seconds RetCode: 0 Status: OK