Package: sitePath Version: 1.27.0 Command: /Library/Frameworks/R.framework/Resources/bin/R CMD build --keep-empty-dirs --no-resave-data sitePath StartedAt: 2025-11-13 17:44:45 -0500 (Thu, 13 Nov 2025) EndedAt: 2025-11-13 17:45:08 -0500 (Thu, 13 Nov 2025) EllapsedTime: 23.3 seconds RetCode: 0 Status: OK PackageFile: sitePath_1.27.0.tar.gz PackageFileSize: 1.24 MiB