Package: sitePath Version: 1.27.0 Command: rm -rf sitePath.buildbin-libdir && mkdir sitePath.buildbin-libdir && /Users/biocbuild/BBS/utils/build-universal.sh sitePath_1.27.0.tar.gz /Library/Frameworks/R.framework/Resources/bin/R sitePath.buildbin-libdir StartedAt: 2025-11-13 23:57:17 -0500 (Thu, 13 Nov 2025) EndedAt: 2025-11-13 23:57:32 -0500 (Thu, 13 Nov 2025) EllapsedTime: 14.3 seconds RetCode: 0 Status: OK PackageFile: sitePath_1.27.0.tgz PackageFileSize: 1.486 MiB