Package: singscore Version: 1.31.0 Command: /home/biocbuild/bbs-3.23-bioc/R/bin/R CMD INSTALL singscore StartedAt: 2025-11-23 15:30:31 -0500 (Sun, 23 Nov 2025) EndedAt: 2025-11-23 15:31:03 -0500 (Sun, 23 Nov 2025) EllapsedTime: 32.1 seconds RetCode: 0 Status: OK