Package: singscore Version: 1.31.0 Command: /Library/Frameworks/R.framework/Resources/bin/R CMD INSTALL singscore StartedAt: 2025-11-14 15:11:46 -0500 (Fri, 14 Nov 2025) EndedAt: 2025-11-14 15:12:00 -0500 (Fri, 14 Nov 2025) EllapsedTime: 13.4 seconds RetCode: 0 Status: OK