Package: singscore Version: 1.31.0 Command: /Library/Frameworks/R.framework/Resources/bin/R CMD build --keep-empty-dirs --no-resave-data singscore StartedAt: 2025-11-14 17:41:40 -0500 (Fri, 14 Nov 2025) EndedAt: 2025-11-14 17:42:09 -0500 (Fri, 14 Nov 2025) EllapsedTime: 29.4 seconds RetCode: 0 Status: OK PackageFile: singscore_1.31.0.tar.gz PackageFileSize: 2.948 MiB