Package: singscore Version: 1.31.0 Command: rm -rf singscore.buildbin-libdir && mkdir singscore.buildbin-libdir && /Users/biocbuild/BBS/utils/build-universal.sh singscore_1.31.0.tar.gz /Library/Frameworks/R.framework/Resources/bin/R singscore.buildbin-libdir StartedAt: 2025-11-14 23:52:29 -0500 (Fri, 14 Nov 2025) EndedAt: 2025-11-14 23:52:45 -0500 (Fri, 14 Nov 2025) EllapsedTime: 16.3 seconds RetCode: 0 Status: OK PackageFile: singscore_1.31.0.tgz PackageFileSize: 3.444 MiB