Package: singleCellTK Version: 2.21.0 Command: /home/biocbuild/bbs-3.23-bioc/R/bin/R CMD INSTALL singleCellTK StartedAt: 2025-11-14 15:56:40 -0500 (Fri, 14 Nov 2025) EndedAt: 2025-11-14 15:57:23 -0500 (Fri, 14 Nov 2025) EllapsedTime: 42.1 seconds RetCode: 0 Status: OK