Package: singleCellTK Version: 2.21.0 Command: /home/biocbuild/bbs-3.23-bioc/R/bin/R CMD build --keep-empty-dirs --no-resave-data singleCellTK StartedAt: 2025-11-13 20:06:56 -0500 (Thu, 13 Nov 2025) EndedAt: 2025-11-13 20:07:45 -0500 (Thu, 13 Nov 2025) EllapsedTime: 49.0 seconds RetCode: 0 Status: OK PackageFile: singleCellTK_2.21.0.tar.gz PackageFileSize: 3.242 MiB