Package: singleCellTK Version: 2.21.0 Command: /Library/Frameworks/R.framework/Resources/bin/R CMD INSTALL singleCellTK StartedAt: 2025-11-14 15:30:24 -0500 (Fri, 14 Nov 2025) EndedAt: 2025-11-14 15:30:41 -0500 (Fri, 14 Nov 2025) EllapsedTime: 17.4 seconds RetCode: 0 Status: OK