Package: sincell Version: 1.43.0 Command: /Library/Frameworks/R.framework/Resources/bin/R CMD INSTALL sincell StartedAt: 2025-11-14 15:04:59 -0500 (Fri, 14 Nov 2025) EndedAt: 2025-11-14 15:05:13 -0500 (Fri, 14 Nov 2025) EllapsedTime: 13.3 seconds RetCode: 0 Status: OK