Package: sincell Version: 1.43.0 Command: /Library/Frameworks/R.framework/Resources/bin/R CMD build --keep-empty-dirs --no-resave-data sincell StartedAt: 2025-11-14 17:41:13 -0500 (Fri, 14 Nov 2025) EndedAt: 2025-11-14 18:21:13 -0500 (Fri, 14 Nov 2025) EllapsedTime: 2400.0 seconds RetCode: None Status: TIMEOUT PackageFile: None PackageFileSize: NA