############################################################################## ############################################################################## ### ### Running command: ### ### /Library/Frameworks/R.framework/Resources/bin/R CMD build --keep-empty-dirs --no-resave-data sincell ### ############################################################################## ############################################################################## * checking for file ‘sincell/DESCRIPTION’ ... OK * preparing ‘sincell’: * checking DESCRIPTION meta-information ... OK * cleaning src * installing the package (it is needed to build vignettes) * creating vignettes ...