Package: simplifyEnrichment Version: 2.5.0 Command: /home/biocbuild/bbs-3.23-bioc/R/bin/R CMD INSTALL simplifyEnrichment StartedAt: 2025-11-13 15:43:40 -0500 (Thu, 13 Nov 2025) EndedAt: 2025-11-13 15:43:58 -0500 (Thu, 13 Nov 2025) EllapsedTime: 17.3 seconds RetCode: 0 Status: OK