Package: simplifyEnrichment Version: 2.5.0 Command: /Library/Frameworks/R.framework/Resources/bin/R CMD INSTALL simplifyEnrichment StartedAt: 2025-11-13 15:26:54 -0500 (Thu, 13 Nov 2025) EndedAt: 2025-11-13 15:27:02 -0500 (Thu, 13 Nov 2025) EllapsedTime: 7.4 seconds RetCode: 0 Status: OK