Package: simplifyEnrichment Version: 2.5.0 Command: rm -rf simplifyEnrichment.buildbin-libdir && mkdir simplifyEnrichment.buildbin-libdir && /Users/biocbuild/BBS/utils/build-universal.sh simplifyEnrichment_2.5.0.tar.gz /Library/Frameworks/R.framework/Resources/bin/R simplifyEnrichment.buildbin-libdir StartedAt: 2025-11-13 23:57:04 -0500 (Thu, 13 Nov 2025) EndedAt: 2025-11-13 23:57:13 -0500 (Thu, 13 Nov 2025) EllapsedTime: 9.2 seconds RetCode: 0 Status: OK PackageFile: simplifyEnrichment_2.5.0.tgz PackageFileSize: 1.526 MiB