Package: simplifyEnrichment Version: 2.5.0 Maintainer: Zuguang Gu MaintainerEmail: z.gu at dkfz.de git_url: https://git.bioconductor.org/packages/simplifyEnrichment git_branch: devel git_last_commit: 6159a31 git_last_commit_date: 2025-10-29 10:59:50 -0500 (Wed, 29 Oct 2025)