Package: simpleSeg Version: 1.13.0 Command: /Library/Frameworks/R.framework/Resources/bin/R CMD INSTALL simpleSeg StartedAt: 2025-11-12 15:26:26 -0500 (Wed, 12 Nov 2025) EndedAt: 2025-11-12 15:26:27 -0500 (Wed, 12 Nov 2025) EllapsedTime: 1.1 seconds RetCode: 1 Status: ERROR