############################################################################## ############################################################################## ### ### Running command: ### ### /Library/Frameworks/R.framework/Resources/bin/R CMD INSTALL simpleSeg ### ############################################################################## ############################################################################## * installing to library ‘/Library/Frameworks/R.framework/Versions/4.6-arm64/Resources/library’ ERROR: dependency ‘cytomapper’ is not available for package ‘simpleSeg’ Perhaps try a variation of: install.packages('cytomapper') * removing ‘/Library/Frameworks/R.framework/Versions/4.6-arm64/Resources/library/simpleSeg’