############################################################################## ############################################################################## ### ### Running command: ### ### /Library/Frameworks/R.framework/Resources/bin/R CMD build --keep-empty-dirs --no-resave-data simpleSeg ### ############################################################################## ############################################################################## * checking for file ‘simpleSeg/DESCRIPTION’ ... OK * preparing ‘simpleSeg’: * checking DESCRIPTION meta-information ... OK * installing the package (it is needed to build vignettes) ----------------------------------- ERROR: dependency ‘cytomapper’ is not available for package ‘simpleSeg’ Perhaps try a variation of: install.packages('cytomapper') * removing ‘/private/var/folders/r0/l4fjk6cj5xj0j3brt4bplpl40000gt/T/Rtmpcrqr19/Rinstdf402ca7ccc/simpleSeg’ ----------------------------------- ERROR: package installation failed