Package: simpleSeg Version: 1.13.0 Maintainer: Ellis Patrick MaintainerEmail: ellis.patrick at sydney.edu.au git_url: https://git.bioconductor.org/packages/simpleSeg git_branch: devel git_last_commit: 3edd044 git_last_commit_date: 2025-10-29 11:19:44 -0500 (Wed, 29 Oct 2025)