Package: similaRpeak Version: 1.43.0 Maintainer: Astrid DeschĂȘnes MaintainerEmail: adeschen at hotmail.com git_url: https://git.bioconductor.org/packages/similaRpeak git_branch: devel git_last_commit: 5ee6d71 git_last_commit_date: 2025-10-29 10:25:56 -0500 (Wed, 29 Oct 2025)