Package: simPIC Version: 1.7.0 Command: /home/biocbuild/bbs-3.23-bioc/R/bin/R CMD check --install=check:simPIC.install-out.txt --library=/home/biocbuild/bbs-3.23-bioc/R/site-library --timings simPIC_1.7.0.tar.gz StartedAt: 2025-11-24 03:59:34 -0500 (Mon, 24 Nov 2025) EndedAt: 2025-11-24 04:06:22 -0500 (Mon, 24 Nov 2025) EllapsedTime: 407.7 seconds RetCode: 0 Status: OK CheckDir: simPIC.Rcheck Warnings: 0