Package: simPIC Version: 1.7.0 Command: /home/biocbuild/bbs-3.23-bioc/R/bin/R CMD build --keep-empty-dirs --no-resave-data simPIC StartedAt: 2025-11-11 20:10:53 -0500 (Tue, 11 Nov 2025) EndedAt: 2025-11-11 20:13:11 -0500 (Tue, 11 Nov 2025) EllapsedTime: 138.1 seconds RetCode: 0 Status: OK PackageFile: simPIC_1.7.0.tar.gz PackageFileSize: 5.211 MiB