Package: signeR Version: 2.13.0 Command: /Library/Frameworks/R.framework/Resources/bin/R CMD INSTALL signeR StartedAt: 2025-11-13 15:30:33 -0500 (Thu, 13 Nov 2025) EndedAt: 2025-11-13 15:31:03 -0500 (Thu, 13 Nov 2025) EllapsedTime: 30.6 seconds RetCode: 0 Status: OK