Package: signeR Version: 2.13.0 Command: rm -rf signeR.buildbin-libdir && mkdir signeR.buildbin-libdir && /Users/biocbuild/BBS/utils/build-universal.sh signeR_2.13.0.tar.gz /Library/Frameworks/R.framework/Resources/bin/R signeR.buildbin-libdir StartedAt: 2025-11-13 23:56:53 -0500 (Thu, 13 Nov 2025) EndedAt: 2025-11-13 23:57:29 -0500 (Thu, 13 Nov 2025) EllapsedTime: 36.8 seconds RetCode: 0 Status: OK PackageFile: signeR_2.13.0.tgz PackageFileSize: 2.502 MiB