Package: signatureSearch Version: 1.25.0 Command: /home/biocbuild/bbs-3.23-bioc/R/bin/R CMD build --keep-empty-dirs --no-resave-data signatureSearch StartedAt: 2025-11-11 20:09:42 -0500 (Tue, 11 Nov 2025) EndedAt: 2025-11-11 20:21:58 -0500 (Tue, 11 Nov 2025) EllapsedTime: 736.8 seconds RetCode: 0 Status: OK PackageFile: signatureSearch_1.25.0.tar.gz PackageFileSize: 5.221 MiB