Package: signatureSearch Version: 1.25.0 Command: /Library/Frameworks/R.framework/Resources/bin/R CMD INSTALL signatureSearch StartedAt: 2025-11-13 15:28:12 -0500 (Thu, 13 Nov 2025) EndedAt: 2025-11-13 15:28:54 -0500 (Thu, 13 Nov 2025) EllapsedTime: 42.4 seconds RetCode: 0 Status: OK